BEGIN:VCALENDAR
VERSION:2.0
PRODID:-//Tukios.com/
BEGIN:VEVENT
UID:07dbd963-481e-49e4-8a98-00a5f3c907e7@www.lowefuneralhome.com
DTSTAMP:20260424T194452Z
DTSTART:20260426T173000Z
DTEND:20260426T194500Z
SUMMARY:Visitation
DESCRIPTION:
URL:https://www.lowefuneralhome.com/obituaries/clark-patterson
LOCATION: 3625 Altamahaw Church St.  Elon NC 27244
GEO:36.1871527;-79.5015403
END:VEVENT
END:VCALENDAR