BEGIN:VCALENDAR
VERSION:2.0
PRODID:-//Tukios.com/
BEGIN:VEVENT
UID:5adc7338-2045-406c-85a2-d302da0e93d9@www.lowefuneralhome.com
DTSTAMP:20260424T194027Z
DTSTART:20260426T190000Z
DTEND:20260426T194500Z
SUMMARY:Funeral Service
DESCRIPTION:
URL:https://www.lowefuneralhome.com/obituaries/clark-patterson
LOCATION: 3625 Altamahaw Church St.  Elon NC 27244
GEO:36.1871527;-79.5015403
END:VEVENT
END:VCALENDAR