BEGIN:VCALENDAR
VERSION:2.0
PRODID:-//Tukios.com/
BEGIN:VEVENT
UID:d8fbebd7-a4c5-4036-9b31-41b156ab1b4b@www.lowefuneralhome.com
DTSTAMP:20260424T194452Z
DTSTART:20260426T200000Z
DTEND:20260426T201500Z
SUMMARY:Graveside Service
DESCRIPTION:
URL:https://www.lowefuneralhome.com/obituaries/clark-patterson
LOCATION: 3625 Altamahaw Church St  Elon NC 27244
GEO:36.1871435;-79.5016623
END:VEVENT
END:VCALENDAR