BEGIN:VCALENDAR
VERSION:2.0
PRODID:-//Tukios.com/
BEGIN:VEVENT
UID:97bc32e6-cc1d-4f33-9e12-966f5d12d39e@www.lowefuneralhome.com
DTSTAMP:20260426T012110Z
DTSTART:20260428T180000Z
DTEND:20260428T190000Z
SUMMARY:Celebration of Life
DESCRIPTION:
URL:https://www.lowefuneralhome.com/obituaries/jeannette-martin
LOCATION: 2205 S Church St  Burlington NC 27215
GEO:36.0824303;-79.4705133
END:VEVENT
END:VCALENDAR