BEGIN:VCALENDAR
VERSION:2.0
PRODID:-//Tukios.com/
BEGIN:VEVENT
UID:960b4b2a-c2d9-4cd9-b301-00d04260f919@www.lowefuneralhome.com
DTSTAMP:20260426T012407Z
DTSTART:20260428T184500Z
DTEND:20260428T194500Z
SUMMARY:Visitation
DESCRIPTION:The family will receive friends following the service.
URL:https://www.lowefuneralhome.com/obituaries/jeannette-martin
LOCATION: 2205 S Church St  Burlington NC 27215
GEO:36.0824303;-79.4705133
END:VEVENT
END:VCALENDAR