BEGIN:VCALENDAR
VERSION:2.0
PRODID:-//Tukios.com/
BEGIN:VEVENT
UID:1ff974be-751c-47c9-aa97-923e7028e000@www.lowefuneralhome.com
DTSTAMP:20260424T153806Z
DTSTART:20260425T163000Z
DTEND:20260425T174500Z
SUMMARY:Visitation
DESCRIPTION:
URL:https://www.lowefuneralhome.com/obituaries/joyce-busick
LOCATION: 7345 NC-61  Gibsonville NC 27249
GEO:36.1943262;-79.5926782
END:VEVENT
END:VCALENDAR