BEGIN:VCALENDAR
VERSION:2.0
PRODID:-//Tukios.com/
BEGIN:VEVENT
UID:0bbe8730-52d6-454b-a677-a36bf77d8b2e@www.lowefuneralhome.com
DTSTAMP:20260424T154257Z
DTSTART:20260425T190000Z
DTEND:20260425T200000Z
SUMMARY:Burial
DESCRIPTION:
URL:https://www.lowefuneralhome.com/obituaries/joyce-busick
LOCATION: 7345 NC 61 North  Gibsonville NC 27249
GEO:36.1058448;-79.5419538
END:VEVENT
END:VCALENDAR