BEGIN:VCALENDAR
VERSION:2.0
PRODID:-//Tukios.com/
BEGIN:VEVENT
UID:0860d633-024d-4e4e-882a-330bedcc3cd4@www.lowefuneralhome.com
DTSTAMP:20260424T153806Z
DTSTART:20260425T180000Z
DTEND:20260425T190000Z
SUMMARY:Celebration of Life
DESCRIPTION:
URL:https://www.lowefuneralhome.com/obituaries/joyce-busick
LOCATION:Apple’s Chapel Christian Church 7345 North Carolina 61  
	Gibsonville NC 27249
GEO:36.1944098;-79.5927836
END:VEVENT
END:VCALENDAR