BEGIN:VCALENDAR
VERSION:2.0
PRODID:-//Tukios.com/
BEGIN:VEVENT
UID:6342c95d-c9ce-47b3-a494-a2832f6acb50@www.lowefuneralhome.com
DTSTAMP:20260425T013607Z
DTSTART:20260502T150000Z
DTEND:20260502T160000Z
SUMMARY:Celebration of Life
DESCRIPTION:
URL:https://www.lowefuneralhome.com/obituaries/raymond-ray-bell
LOCATION: 2205 S Church St  Burlington NC 27215
GEO:36.0824303;-79.4705133
END:VEVENT
END:VCALENDAR