BEGIN:VCALENDAR
VERSION:2.0
PRODID:-//Tukios.com/
BEGIN:VEVENT
UID:b5e057e0-7c67-477b-b61a-2b568725a016@www.lowefuneralhome.com
DTSTAMP:20260421T184819Z
DTSTART:20260425T153000Z
DTEND:20260425T164500Z
SUMMARY:Visitation
DESCRIPTION:
URL:https://www.lowefuneralhome.com/obituaries/thomas-ezzell
LOCATION: 2205 S Church St  Burlington NC 27215
GEO:36.082373;-79.4704764
END:VEVENT
END:VCALENDAR