BEGIN:VCALENDAR
VERSION:2.0
PRODID:-//Tukios.com/
BEGIN:VEVENT
UID:a1610869-8183-4151-bf64-e2eceb724417@www.lowefuneralhome.com
DTSTAMP:20260421T184743Z
DTSTART:20260425T170000Z
DTEND:20260425T180000Z
SUMMARY:Funeral Service
DESCRIPTION:
URL:https://www.lowefuneralhome.com/obituaries/thomas-ezzell
LOCATION: 2205 S Church St  Burlington NC 27215
GEO:36.0824303;-79.4705133
END:VEVENT
END:VCALENDAR