BEGIN:VCALENDAR
VERSION:2.0
PRODID:-//Tukios.com/
BEGIN:VEVENT
UID:caca9e02-434d-40cd-86f8-863168afc370@www.lowefuneralhome.com
DTSTAMP:20260421T185017Z
DTSTART:20260425T181500Z
DTEND:20260425T191500Z
SUMMARY:Burial
DESCRIPTION:
URL:https://www.lowefuneralhome.com/obituaries/thomas-ezzell
LOCATION: 1402 E Gilbreath St  Graham NC 27253
GEO:36.0456056;-79.3715467
END:VEVENT
END:VCALENDAR