BEGIN:VCALENDAR
VERSION:2.0
PRODID:-//Tukios.com/
BEGIN:VEVENT
UID:2694ed50-e8fc-4857-b4e3-ddc352ae5499@www.lowefuneralhome.com
DTSTAMP:20260423T001605Z
DTSTART:20260424T170000Z
DTEND:20260424T183000Z
SUMMARY:Visitation
DESCRIPTION:
URL:https://www.lowefuneralhome.com/obituaries/wesla-shoffner
LOCATION: 2205 S Church St  Burlington NC 27215
GEO:36.082373;-79.4704764
END:VEVENT
END:VCALENDAR