BEGIN:VCALENDAR
VERSION:2.0
PRODID:-//Tukios.com/
BEGIN:VEVENT
UID:448948ea-a842-4c08-aedf-f4169d986fed@www.lowefuneralhome.com
DTSTAMP:20260423T001916Z
DTSTART:20260424T190000Z
DTEND:20260424T200000Z
SUMMARY:Graveside Service
DESCRIPTION:
URL:https://www.lowefuneralhome.com/obituaries/wesla-shoffner
LOCATION: 4039 S Church St  Burlington NC 27215
GEO:36.0809108;-79.5324687
END:VEVENT
END:VCALENDAR