BEGIN:VCALENDAR
VERSION:2.0
PRODID:-//Tukios.com/
BEGIN:VEVENT
UID:4f5fa191-a978-4e5c-addf-1b72ee60fa1c@www.lowefuneralhome.com
DTSTAMP:20260420T190244Z
DTSTART:20260423T150000Z
DTEND:20260423T160000Z
SUMMARY:Celebration of Life
DESCRIPTION:
URL:https://www.lowefuneralhome.com/obituaries/william-dawson
LOCATION:Lowe Funeral Home Chapel 2205 S Church St  Burlington NC 27215
GEO:36.0824303;-79.4705133
END:VEVENT
END:VCALENDAR