BEGIN:VCALENDAR
VERSION:2.0
PRODID:-//Tukios.com/
BEGIN:VEVENT
UID:ce1d2d0f-0435-4407-8411-988046a24522@www.lowefuneralhome.com
DTSTAMP:20260420T191035Z
DTSTART:20260422T220000Z
DTEND:20260423T000000Z
SUMMARY:Visitation
DESCRIPTION:
URL:https://www.lowefuneralhome.com/obituaries/william-dawson
LOCATION: 2205 S Church St  Burlington NC 27215
GEO:36.0824303;-79.4705133
END:VEVENT
END:VCALENDAR