BEGIN:VCALENDAR
VERSION:2.0
PRODID:-//Tukios.com/
BEGIN:VEVENT
UID:ef97e604-61c6-448b-ad20-3818adf22d48@www.lowefuneralhome.com
DTSTAMP:20260420T190906Z
DTSTART:20260423T160000Z
DTEND:20260423T161500Z
SUMMARY:Graveside Service
DESCRIPTION:
URL:https://www.lowefuneralhome.com/obituaries/william-dawson
LOCATION: 4039 S Church St  Burlington NC 27215
GEO:36.0809108;-79.5324687
END:VEVENT
END:VCALENDAR